BEGIN:VCALENDAR
VERSION:2.0
PRODID:-//Mayflower Council | BSA - ECPv5.3.2.1//NONSGML v1.0//EN
CALSCALE:GREGORIAN
METHOD:PUBLISH
X-WR-CALNAME:Mayflower Council | BSA
X-ORIGINAL-URL:https://www.mayflowerbsa.org
X-WR-CALDESC:Events for Mayflower Council | BSA
BEGIN:VTIMEZONE
TZID:America/New_York
BEGIN:DAYLIGHT
TZOFFSETFROM:-0500
TZOFFSETTO:-0400
TZNAME:EDT
DTSTART:20200308T070000
END:DAYLIGHT
BEGIN:STANDARD
TZOFFSETFROM:-0400
TZOFFSETTO:-0500
TZNAME:EST
DTSTART:20201101T060000
END:STANDARD
END:VTIMEZONE
BEGIN:VEVENT
DTSTART;TZID=America/New_York:20200227T190000
DTEND;TZID=America/New_York:20200227T210000
DTSTAMP:20260420T003233
CREATED:20200214T192102Z
LAST-MODIFIED:20200214T194930Z
UID:23853-1582830000-1582837200@www.mayflowerbsa.org
SUMMARY:Post Road Eagle Boards - Sudbury
DESCRIPTION:
URL:https://www.mayflowerbsa.org/legacyevent/post-road-eagle-boards-sudbury/2020-02-27/
LOCATION:Sudbury United Methodist Church\, 251 Old Sudbury Road\, Sudbury\, MA\, 01776\, United States
CATEGORIES:All-Council
ATTACH;FMTTYPE=image/jpeg:https://www.mayflowerbsa.org/wp-content/uploads/eaglepalms.jpg
ORGANIZER;CN="Bryan%20Corrigan":MAILTO:bcorrigan@earthlink.net
GEO:42.3800524;-71.4098521
X-APPLE-STRUCTURED-LOCATION;VALUE=URI;X-ADDRESS=Sudbury United Methodist Church 251 Old Sudbury Road Sudbury MA 01776 United States;X-APPLE-RADIUS=500;X-TITLE=251 Old Sudbury Road:geo:-71.4098521,42.3800524
END:VEVENT
END:VCALENDAR