BEGIN:VCALENDAR
VERSION:2.0
PRODID:-//Mayflower Council | BSA - ECPv5.3.2.1//NONSGML v1.0//EN
CALSCALE:GREGORIAN
METHOD:PUBLISH
X-WR-CALNAME:Mayflower Council | BSA
X-ORIGINAL-URL:https://www.mayflowerbsa.org
X-WR-CALDESC:Events for Mayflower Council | BSA
BEGIN:VTIMEZONE
TZID:America/New_York
BEGIN:DAYLIGHT
TZOFFSETFROM:-0500
TZOFFSETTO:-0400
TZNAME:EDT
DTSTART:20180311T070000
END:DAYLIGHT
BEGIN:STANDARD
TZOFFSETFROM:-0400
TZOFFSETTO:-0500
TZNAME:EST
DTSTART:20181104T060000
END:STANDARD
END:VTIMEZONE
BEGIN:VEVENT
DTSTART;VALUE=DATE:20181020
DTEND;VALUE=DATE:20181021
DTSTAMP:20260421T212909
CREATED:20180828T183757Z
LAST-MODIFIED:20180927T161756Z
UID:15692-1539993600-1540079999@www.mayflowerbsa.org
SUMMARY:Providence Bruins
DESCRIPTION:The Providence Bruins invite you to kick off your scouting year with an outing to a Providence Bruins game in October or November.  Save big on tickets plus scouts and siblings receive P-Bruins hat\, commemorative Scout Patch and popcorn! \n  \nDates Available: \n\nSat\, Oct. 20 @ 7:05pm vs the Sound Tigers\nSun\, Oct. 28 @ 3:05pm vs the Sound Tigers\nFri\, Nov. 9 @ 7:05pm vs the Penguins\nSun\, Nov. 11 @ 3:05pmvs the Penguins\nFri\, Nov. 16 @ 7:05pm vs the Phantoms\nSat\, Nov. 17 @ 7:05pmvs the Americans\n\n  \nTo reserve a date for your pack\, troop or crew or for more information\, please contact Caroline Mattos at the Providence Bruins\, 401-680-4720 or via email at mattos@pseagency.com \nDiscounted tickets are:  $22.00 each \nLook forward to seeing your Scouts at a Providence Bruins game this fall!
URL:https://www.mayflowerbsa.org/legacyevent/providence-bruins/2018-10-20/
LOCATION:Dunkin’ Donuts Center\, 1 La Salle Square\, Providence\, RI\, 02903\, United States
CATEGORIES:All-Council
ATTACH;FMTTYPE=image/png:https://www.mayflowerbsa.org/wp-content/uploads/Providence_Bruins_logo.svg.png
ORGANIZER;CN="Carlene%20Covino":MAILTO:carlene.covino@scouting.org
GEO:41.8235105;-71.4182477
X-APPLE-STRUCTURED-LOCATION;VALUE=URI;X-ADDRESS=Dunkin’ Donuts Center 1 La Salle Square Providence RI 02903 United States;X-APPLE-RADIUS=500;X-TITLE=1 La Salle Square:geo:-71.4182477,41.8235105
END:VEVENT
END:VCALENDAR