BEGIN:VCALENDAR
VERSION:2.0
PRODID:-//Mayflower Council | BSA - ECPv5.3.2.1//NONSGML v1.0//EN
CALSCALE:GREGORIAN
METHOD:PUBLISH
X-WR-CALNAME:Mayflower Council | BSA
X-ORIGINAL-URL:https://www.mayflowerbsa.org
X-WR-CALDESC:Events for Mayflower Council | BSA
BEGIN:VTIMEZONE
TZID:America/New_York
BEGIN:DAYLIGHT
TZOFFSETFROM:-0500
TZOFFSETTO:-0400
TZNAME:EDT
DTSTART:20200308T070000
END:DAYLIGHT
BEGIN:STANDARD
TZOFFSETFROM:-0400
TZOFFSETTO:-0500
TZNAME:EST
DTSTART:20201101T060000
END:STANDARD
END:VTIMEZONE
BEGIN:VEVENT
DTSTART;VALUE=DATE:20200309
DTEND;VALUE=DATE:20200311
DTSTAMP:20260420T031535
CREATED:20190326T132929Z
LAST-MODIFIED:20190326T132929Z
UID:20394-1583712000-1583884799@www.mayflowerbsa.org
SUMMARY:Purim\, Holi\, Hindu
DESCRIPTION:Religious Holiday – please do not schedule Scouting events on this day. \n  \n** begins at sundown until Tuesday\, March 10th at sundown **
URL:https://www.mayflowerbsa.org/legacyevent/purim-holi-hindu/
CATEGORIES:All-Council
ATTACH;FMTTYPE=image/jpeg:https://www.mayflowerbsa.org/wp-content/uploads/placeholderimage.jpg
END:VEVENT
END:VCALENDAR