BEGIN:VCALENDAR
VERSION:2.0
PRODID:-//Mayflower Council | BSA - ECPv5.3.2.1//NONSGML v1.0//EN
CALSCALE:GREGORIAN
METHOD:PUBLISH
X-WR-CALNAME:Mayflower Council | BSA
X-ORIGINAL-URL:https://www.mayflowerbsa.org
X-WR-CALDESC:Events for Mayflower Council | BSA
BEGIN:VTIMEZONE
TZID:America/New_York
BEGIN:DAYLIGHT
TZOFFSETFROM:-0500
TZOFFSETTO:-0400
TZNAME:EDT
DTSTART:20180311T070000
END:DAYLIGHT
BEGIN:STANDARD
TZOFFSETFROM:-0400
TZOFFSETTO:-0500
TZNAME:EST
DTSTART:20181104T060000
END:STANDARD
END:VTIMEZONE
BEGIN:VEVENT
DTSTART;TZID=America/New_York:20181018T190000
DTEND;TZID=America/New_York:20181018T203000
DTSTAMP:20260422T002557
CREATED:20181016T134419Z
LAST-MODIFIED:20181016T161059Z
UID:17060-1539889200-1539894600@www.mayflowerbsa.org
SUMMARY:Recharter Orientation Webinar
DESCRIPTION:Have you been asked to “recharter” your unit and have a bunch of questions? You probably also a little anxious\, wondering “what in the world have I gotten myself into?” because everyone else was so relieved when you agreed to do it. \nRELAX. Unit recharter has earned a reputation as being difficult when\, in fact\, it is pretty easy. If there is a hard part\, it’s that there are some rules have to be followed for each member and that you have to finish on time. \nLet’s answer some of those questions and help you understand what is required during our Recharter Orientation Webinar; join us at www.uberconference.com/mayflower251 access code 25267
URL:https://www.mayflowerbsa.org/legacyevent/recharter-orientation-webinar/
CATEGORIES:All-Council
ATTACH;FMTTYPE=image/jpeg:https://www.mayflowerbsa.org/wp-content/uploads/placeholderimage5.jpg
END:VEVENT
END:VCALENDAR