BEGIN:VCALENDAR
VERSION:2.0
PRODID:-//Mayflower Council | BSA - ECPv5.3.2.1//NONSGML v1.0//EN
CALSCALE:GREGORIAN
METHOD:PUBLISH
X-WR-CALNAME:Mayflower Council | BSA
X-ORIGINAL-URL:https://www.mayflowerbsa.org
X-WR-CALDESC:Events for Mayflower Council | BSA
BEGIN:VTIMEZONE
TZID:America/New_York
BEGIN:DAYLIGHT
TZOFFSETFROM:-0500
TZOFFSETTO:-0400
TZNAME:EDT
DTSTART:20200308T070000
END:DAYLIGHT
BEGIN:STANDARD
TZOFFSETFROM:-0400
TZOFFSETTO:-0500
TZNAME:EST
DTSTART:20201101T060000
END:STANDARD
END:VTIMEZONE
BEGIN:VEVENT
DTSTART;TZID=America/New_York:20200215T090000
DTEND;TZID=America/New_York:20200215T123000
DTSTAMP:20260419T162223
CREATED:20190830T164931Z
LAST-MODIFIED:20190830T165319Z
UID:22019-1581757200-1581769800@www.mayflowerbsa.org
SUMMARY:Red Cross First Aid
DESCRIPTION:This hands-on course trains youth and adult in the most current first aid techniques. This training is appropriate for youth and adults and is excellent preparation for weekend camping. First aid for accidents and emergencies around the home is also covered. The first aid course is not required\, although it’s advisable for all. Students who complete the course will receive a Red Cross certification which is good for 2 years. \nRegistration closes one week prior to course. Pre-registration is required\, because we have limited spots and equipment. We cannot accommodate walk-ins. Please note that we need at least a few participants to be able to run this course. \nPrice listed is for registered BSA members.  Non-BSA members = $65.00
URL:https://www.mayflowerbsa.org/legacyevent/red-cross-first-aid-11-2020-02-15/
LOCATION:Canton Service Center\, 2438 Washington Street\, Canton\, MA\, 02021\, United States
CATEGORIES:All-Council,Training
ATTACH;FMTTYPE=image/png:https://www.mayflowerbsa.org/wp-content/uploads/Red-Cross.png
ORGANIZER;CN="David%20Barnett":MAILTO:david.barnett16@icloud.com
GEO:42.1989563;-71.1195763
X-APPLE-STRUCTURED-LOCATION;VALUE=URI;X-ADDRESS=Canton Service Center 2438 Washington Street Canton MA 02021 United States;X-APPLE-RADIUS=500;X-TITLE=2438 Washington Street:geo:-71.1195763,42.1989563
END:VEVENT
END:VCALENDAR