BEGIN:VCALENDAR
VERSION:2.0
PRODID:-//Mayflower Council | BSA - ECPv5.3.2.1//NONSGML v1.0//EN
CALSCALE:GREGORIAN
METHOD:PUBLISH
X-WR-CALNAME:Mayflower Council | BSA
X-ORIGINAL-URL:https://www.mayflowerbsa.org
X-WR-CALDESC:Events for Mayflower Council | BSA
BEGIN:VTIMEZONE
TZID:America/New_York
BEGIN:DAYLIGHT
TZOFFSETFROM:-0500
TZOFFSETTO:-0400
TZNAME:EDT
DTSTART:20200308T070000
END:DAYLIGHT
BEGIN:STANDARD
TZOFFSETFROM:-0400
TZOFFSETTO:-0500
TZNAME:EST
DTSTART:20201101T060000
END:STANDARD
END:VTIMEZONE
BEGIN:VEVENT
DTSTART;TZID=America/New_York:20200324T180000
DTEND;TZID=America/New_York:20200324T213000
DTSTAMP:20260420T030539
CREATED:20190326T145438Z
LAST-MODIFIED:20200313T180157Z
UID:20407-1585072800-1585085400@www.mayflowerbsa.org
SUMMARY:Red Cross First Aid
DESCRIPTION:In an abundance of caution\, we will be canceling the Red Cross First Aid training because these events bring a number of Scouters together. We will be issuing full refunds to any training session that required payment to everyone by the end of the month.\n.\nThis hands-on course trains youth and adult in the most current first aid techniques. This training is appropriate for youth and adults and is excellent preparation for weekend camping. First aid for accidents and emergencies around the home is also covered. The first aid course is not required\, although it’s advisable for all. Students who complete the course will receive a Red Cross certification which is good for 2 years. \nOut of Council Registrants: $65.00 \nRegistration Deadline: March 20\, 2020 \nLocation: White Lodge
URL:https://www.mayflowerbsa.org/legacyevent/red-cross-first-aid-8/
LOCATION:Nobscot Scout Reservation\, 1 Nobscot Road\, Sudbury\, MA\, 01776\, United States
CATEGORIES:All-Council,Training
ATTACH;FMTTYPE=image/png:https://www.mayflowerbsa.org/wp-content/uploads/Red-Cross.png
ORGANIZER;CN="George%20Ecker":MAILTO:mushmahatma@verizon.net
GEO:42.3476721;-71.438526
X-APPLE-STRUCTURED-LOCATION;VALUE=URI;X-ADDRESS=Nobscot Scout Reservation 1 Nobscot Road Sudbury MA 01776 United States;X-APPLE-RADIUS=500;X-TITLE=1 Nobscot Road:geo:-71.438526,42.3476721
END:VEVENT
END:VCALENDAR