BEGIN:VCALENDAR
VERSION:2.0
PRODID:-//Mayflower Council | BSA - ECPv5.3.2.1//NONSGML v1.0//EN
CALSCALE:GREGORIAN
METHOD:PUBLISH
X-WR-CALNAME:Mayflower Council | BSA
X-ORIGINAL-URL:https://www.mayflowerbsa.org
X-WR-CALDESC:Events for Mayflower Council | BSA
BEGIN:VTIMEZONE
TZID:America/New_York
BEGIN:DAYLIGHT
TZOFFSETFROM:-0500
TZOFFSETTO:-0400
TZNAME:EDT
DTSTART:20180311T070000
END:DAYLIGHT
BEGIN:STANDARD
TZOFFSETFROM:-0400
TZOFFSETTO:-0500
TZNAME:EST
DTSTART:20181104T060000
END:STANDARD
END:VTIMEZONE
BEGIN:VEVENT
DTSTART;TZID=America/New_York:20180609T180000
DTEND;TZID=America/New_York:20180609T220000
DTSTAMP:20260421T212254
CREATED:20180508T140539Z
LAST-MODIFIED:20180509T201147Z
UID:14338-1528567200-1528581600@www.mayflowerbsa.org
SUMMARY:Retirement Party
DESCRIPTION:Join the Mayflower Council in wishing Roland Cloutier the very best in his retirement. \n  \nInvitation Flyer
URL:https://www.mayflowerbsa.org/legacyevent/roland/
LOCATION:Black Raspberry Pub\, 36 Cordage Park Circle\, Plymouth\, MA\, 02360\, United States
CATEGORIES:All-Council,Camp Squanto
ATTACH;FMTTYPE=image/jpeg:https://www.mayflowerbsa.org/wp-content/uploads/Roland-Retirement-Party.jpg
ORGANIZER;CN="Rick%20Poirier":MAILTO:rick.poirier@scouting.org
GEO:41.9791871;-70.6879809
X-APPLE-STRUCTURED-LOCATION;VALUE=URI;X-ADDRESS=Black Raspberry Pub 36 Cordage Park Circle Plymouth MA 02360 United States;X-APPLE-RADIUS=500;X-TITLE=36 Cordage Park Circle:geo:-70.6879809,41.9791871
END:VEVENT
END:VCALENDAR