BEGIN:VCALENDAR
VERSION:2.0
PRODID:-//Mayflower Council | BSA - ECPv5.3.2.1//NONSGML v1.0//EN
CALSCALE:GREGORIAN
METHOD:PUBLISH
X-WR-CALNAME:Mayflower Council | BSA
X-ORIGINAL-URL:https://www.mayflowerbsa.org
X-WR-CALDESC:Events for Mayflower Council | BSA
BEGIN:VTIMEZONE
TZID:America/New_York
BEGIN:DAYLIGHT
TZOFFSETFROM:-0500
TZOFFSETTO:-0400
TZNAME:EDT
DTSTART:20180311T070000
END:DAYLIGHT
BEGIN:STANDARD
TZOFFSETFROM:-0400
TZOFFSETTO:-0500
TZNAME:EST
DTSTART:20181104T060000
END:STANDARD
END:VTIMEZONE
BEGIN:VEVENT
DTSTART;TZID=America/New_York:20181011T190000
DTEND;TZID=America/New_York:20181011T203000
DTSTAMP:20260421T155605
CREATED:20181004T180159Z
LAST-MODIFIED:20181012T192113Z
UID:16817-1539284400-1539289800@www.mayflowerbsa.org
SUMMARY:Sachem District Committee
DESCRIPTION:
URL:https://www.mayflowerbsa.org/legacyevent/sachem-district-committee-2/2018-10-11/
LOCATION:Canton Service Center\, 2438 Washington Street\, Canton\, MA\, 02021\, United States
CATEGORIES:All-Council,Sachem District
ATTACH;FMTTYPE=image/jpeg:https://www.mayflowerbsa.org/wp-content/uploads/placeholderimage5.jpg
ORGANIZER;CN="Michael%20Stecker":MAILTO:mstecker37@gmail.com
GEO:42.1989563;-71.1195763
X-APPLE-STRUCTURED-LOCATION;VALUE=URI;X-ADDRESS=Canton Service Center 2438 Washington Street Canton MA 02021 United States;X-APPLE-RADIUS=500;X-TITLE=2438 Washington Street:geo:-71.1195763,42.1989563
END:VEVENT
END:VCALENDAR