BEGIN:VCALENDAR
VERSION:2.0
PRODID:-//Mayflower Council | BSA - ECPv5.3.2.1//NONSGML v1.0//EN
CALSCALE:GREGORIAN
METHOD:PUBLISH
X-WR-CALNAME:Mayflower Council | BSA
X-ORIGINAL-URL:https://www.mayflowerbsa.org
X-WR-CALDESC:Events for Mayflower Council | BSA
BEGIN:VTIMEZONE
TZID:America/New_York
BEGIN:DAYLIGHT
TZOFFSETFROM:-0500
TZOFFSETTO:-0400
TZNAME:EDT
DTSTART:20200308T070000
END:DAYLIGHT
BEGIN:STANDARD
TZOFFSETFROM:-0400
TZOFFSETTO:-0500
TZNAME:EST
DTSTART:20201101T060000
END:STANDARD
END:VTIMEZONE
BEGIN:VEVENT
DTSTART;TZID=America/New_York:20201015T190000
DTEND;TZID=America/New_York:20201015T203000
DTSTAMP:20260423T051318
CREATED:20190321T135706Z
LAST-MODIFIED:20190326T215849Z
UID:20238-1602788400-1602793800@www.mayflowerbsa.org
SUMMARY:Sachem District Committee
DESCRIPTION:These meetings will be held every second Thursday of every month beginning in September thru May.
URL:https://www.mayflowerbsa.org/legacyevent/sachem-district-committee-3-2020-10-08/
LOCATION:Canton Service Center\, 2438 Washington St.\, Canton\, MA\, 02021\, United States
CATEGORIES:All-Council,Sachem District
ATTACH;FMTTYPE=image/jpeg:https://www.mayflowerbsa.org/wp-content/uploads/placeholderimage5.jpg
ORGANIZER;CN="Michael%20Stecker":MAILTO:mstecker37@gmail.com
GEO:42.1989485;-71.1196144
X-APPLE-STRUCTURED-LOCATION;VALUE=URI;X-ADDRESS=Canton Service Center 2438 Washington St. Canton MA 02021 United States;X-APPLE-RADIUS=500;X-TITLE=2438 Washington St.:geo:-71.1196144,42.1989485
END:VEVENT
END:VCALENDAR