BEGIN:VCALENDAR
VERSION:2.0
PRODID:-//Mayflower Council | BSA - ECPv5.3.2.1//NONSGML v1.0//EN
CALSCALE:GREGORIAN
METHOD:PUBLISH
X-WR-CALNAME:Mayflower Council | BSA
X-ORIGINAL-URL:https://www.mayflowerbsa.org
X-WR-CALDESC:Events for Mayflower Council | BSA
BEGIN:VTIMEZONE
TZID:America/New_York
BEGIN:DAYLIGHT
TZOFFSETFROM:-0500
TZOFFSETTO:-0400
TZNAME:EDT
DTSTART:20190310T070000
END:DAYLIGHT
BEGIN:STANDARD
TZOFFSETFROM:-0400
TZOFFSETTO:-0500
TZNAME:EST
DTSTART:20191103T060000
END:STANDARD
END:VTIMEZONE
BEGIN:VEVENT
DTSTART;TZID=America/New_York:20190912T190000
DTEND;TZID=America/New_York:20190912T203000
DTSTAMP:20260421T130604
CREATED:20190321T135706Z
LAST-MODIFIED:20200820T203906Z
UID:20227-1568314800-1568320200@www.mayflowerbsa.org
SUMMARY:Sachem District Committee
DESCRIPTION:In an abundance of caution\, this meeting will be held virtually. Further information from your district and directions on how to participate will be communicated shortly.\n.\nThese meetings will be held every second Thursday of every month beginning in September thru May.
URL:https://www.mayflowerbsa.org/legacyevent/sachem-district-committee-3/2019-09-12/
CATEGORIES:Sachem District
ATTACH;FMTTYPE=image/jpeg:https://www.mayflowerbsa.org/wp-content/uploads/placeholderimage5.jpg
ORGANIZER;CN="Michael%20Stecker":MAILTO:mstecker37@gmail.com
END:VEVENT
END:VCALENDAR