BEGIN:VCALENDAR
VERSION:2.0
PRODID:-//Mayflower Council | BSA - ECPv5.3.2.1//NONSGML v1.0//EN
CALSCALE:GREGORIAN
METHOD:PUBLISH
X-WR-CALNAME:Mayflower Council | BSA
X-ORIGINAL-URL:https://www.mayflowerbsa.org
X-WR-CALDESC:Events for Mayflower Council | BSA
BEGIN:VTIMEZONE
TZID:America/New_York
BEGIN:DAYLIGHT
TZOFFSETFROM:-0500
TZOFFSETTO:-0400
TZNAME:EDT
DTSTART:20200308T070000
END:DAYLIGHT
BEGIN:STANDARD
TZOFFSETFROM:-0400
TZOFFSETTO:-0500
TZNAME:EST
DTSTART:20201101T060000
END:STANDARD
END:VTIMEZONE
BEGIN:VEVENT
DTSTART;TZID=America/New_York:20200201T083000
DTEND;TZID=America/New_York:20200201T160000
DTSTAMP:20260419T154709
CREATED:20191126T145531Z
LAST-MODIFIED:20200121T184851Z
UID:22868-1580545800-1580572800@www.mayflowerbsa.org
SUMMARY:Sachem Scouts BSA Klondike Derby
DESCRIPTION:Due to the low enrollment\, this event is being cancelled. \n  \nAll Scouts are welcome to Borderland State Park for this year’s Scouts BSA Klondike! Compete in the Klondike Derby amongst Scouts from other Troops while testing your scout skills through various stations. Scouts will demonstrate shelter building\, signalling\, and orienteering\, as well as racing sleds and other amazing activities! \nDo you have what it takes to take on this year’s Scouts BSA Klondike? \nRegistration deadline:  January 16\, 2020 \nEvent being run by the Sachem District \nHats: $7.00 \nAdditional Patches: $2.00 \n  \nDownload Flyer \nLeaders Guide \n 
URL:https://www.mayflowerbsa.org/legacyevent/sachem-scouts-bsa-klondike-derby/
LOCATION:Borderline State Park\, 259 Massapoag Avenue\, North Easton\, MA\, 02356\, United States
CATEGORIES:All-Council,Sachem District
ATTACH;FMTTYPE=image/png:https://www.mayflowerbsa.org/wp-content/uploads/freeze-out.png
ORGANIZER;CN="Dan%20Toy":MAILTO:Dantoy@comcast.net
GEO:42.0600388;-71.1654542
X-APPLE-STRUCTURED-LOCATION;VALUE=URI;X-ADDRESS=Borderline State Park 259 Massapoag Avenue North Easton MA 02356 United States;X-APPLE-RADIUS=500;X-TITLE=259 Massapoag Avenue:geo:-71.1654542,42.0600388
END:VEVENT
END:VCALENDAR