BEGIN:VCALENDAR
VERSION:2.0
PRODID:-//Mayflower Council | BSA - ECPv5.3.2.1//NONSGML v1.0//EN
CALSCALE:GREGORIAN
METHOD:PUBLISH
X-WR-CALNAME:Mayflower Council | BSA
X-ORIGINAL-URL:https://www.mayflowerbsa.org
X-WR-CALDESC:Events for Mayflower Council | BSA
BEGIN:VTIMEZONE
TZID:America/New_York
BEGIN:DAYLIGHT
TZOFFSETFROM:-0500
TZOFFSETTO:-0400
TZNAME:EDT
DTSTART:20180311T070000
END:DAYLIGHT
BEGIN:STANDARD
TZOFFSETFROM:-0400
TZOFFSETTO:-0500
TZNAME:EST
DTSTART:20181104T060000
END:STANDARD
END:VTIMEZONE
BEGIN:VEVENT
DTSTART;TZID=America/New_York:20181027T093000
DTEND;TZID=America/New_York:20181028T150000
DTSTAMP:20260421T141711
CREATED:20180627T201121Z
LAST-MODIFIED:20180926T135419Z
UID:14586-1540632600-1540738800@www.mayflowerbsa.org
SUMMARY:Scout Orienteering (Scout - O)
DESCRIPTION:All Scouts are invited to a weekend of Orienteering. It will be a weekend of outdoor adventure as Webelos\, Boy Scouts\, Venture Scouts\, and Girl Scouts learn and practice map and compass skills as well as work on orienteering-related badge requirements. \nSaturday’s program will be skill development\, training\, and practice. Scouts (and adults) will be able to learn orienteering skills such that they will be able to participate in Sunday’s competition regardless of prior experience. Ample orienteering courses will be available for Scouts to practice their orienteering skills. \nSunday’s program will be the annual New England Scout Orienteering Championship competition. Scouts (and adults) will compete for trophies with other Scouts of the same gender and rank or age level. \nWhen registering for the Sunday competition\, please note these course recommendations: \n\nWhite Level Course:  Webelos\, Tenderfoot Boy Scouts\, Junior Girl Scouts\nYellow Level Course:  2nd & 1st Class Boy Scouts\, Cadette Girl Scouts\, adult leaders without prior orienteering experience\nOrange Level Course:  Star\, Life & Eagle Boy Scouts\, Venturers\, Senior & Ambassador Girl Scouts\, adult leaders with prior orienteering experience\n\nPlease register all Scouts and Adults to ensure that adequate materials are available. \nAll participants are required to sign\, and bring to the event\, the  Waiver of Liability\nParking is limited\, car-pooling is highly recommended.  Please leave Troop/Pack trailers at home. \nOvernight accommodations at Nobscot Scout Reservation can be made (cabins\, lean-tos\, tent sites) there is a separate fee. \nNobscot Scout Reservation is a ‘walk-in only’ reservation – Be Prepared to carry your gear. \n  \nRegistration closes September 30\, 2018 unless registration fills up. \nRegistration for Saturday is FULL
URL:https://www.mayflowerbsa.org/legacyevent/scout-orienteering-scout-o/
LOCATION:Nobscot Scout Reservation\, 1 Nobscot Road\, Sudbury\, MA\, 01776\, United States
CATEGORIES:All-Council,Nobscot Scout Reservation
ATTACH;FMTTYPE=image/jpeg:https://www.mayflowerbsa.org/wp-content/uploads/Orienteering-1.jpg
GEO:42.3476721;-71.438526
X-APPLE-STRUCTURED-LOCATION;VALUE=URI;X-ADDRESS=Nobscot Scout Reservation 1 Nobscot Road Sudbury MA 01776 United States;X-APPLE-RADIUS=500;X-TITLE=1 Nobscot Road:geo:-71.438526,42.3476721
END:VEVENT
END:VCALENDAR