BEGIN:VCALENDAR
VERSION:2.0
PRODID:-//Mayflower Council | BSA - ECPv5.3.2.1//NONSGML v1.0//EN
CALSCALE:GREGORIAN
METHOD:PUBLISH
X-WR-CALNAME:Mayflower Council | BSA
X-ORIGINAL-URL:https://www.mayflowerbsa.org
X-WR-CALDESC:Events for Mayflower Council | BSA
BEGIN:VTIMEZONE
TZID:America/New_York
BEGIN:DAYLIGHT
TZOFFSETFROM:-0500
TZOFFSETTO:-0400
TZNAME:EDT
DTSTART:20180311T070000
END:DAYLIGHT
BEGIN:STANDARD
TZOFFSETFROM:-0400
TZOFFSETTO:-0500
TZNAME:EST
DTSTART:20181104T060000
END:STANDARD
END:VTIMEZONE
BEGIN:VEVENT
DTSTART;VALUE=DATE:20181027
DTEND;VALUE=DATE:20181028
DTSTAMP:20260421T141804
CREATED:20180815T195555Z
LAST-MODIFIED:20180921T195444Z
UID:14881-1540598400-1540684799@www.mayflowerbsa.org
SUMMARY:Scouting For Food - Door Hanger Distribution
DESCRIPTION:A Cub Scout promises to “give goodwill”\, a Boy Scout promises “to help other people at all times.”\, and a Venturer promises “to help others”. There is no better way to show your Scouting Spirit than by participating in the annual Scouting for Food drive! Now is the time to show your community the Scouting values of being loyal\, helpful\, kind and cheerful. \nScouting for Food is when you and over 10\,000+ other Scouts throughout the Mayflower Council\, BSA help make a difference to fight hunger. This council-wide service project begins Saturday\, October 27th\, as Scouts distribute door hangers in their neighborhoods to announce the upcoming food drive. Scouts return the following Saturday\, November 3rd\, to pick up and deliver donations to their local food banks and pantries. \nHow can you help make a difference? Talk to your Scoutmaster\, Cubmaster\, Crew Advisor\, or den leader today and let them know you want to help make a difference \nSign Up Your Unit or Town
URL:https://www.mayflowerbsa.org/legacyevent/scouting-for-food-door-hanger-distribution-2/
CATEGORIES:All-Council
ATTACH;FMTTYPE=image/jpeg:https://www.mayflowerbsa.org/wp-content/uploads/Picture.jpg
END:VEVENT
END:VCALENDAR