BEGIN:VCALENDAR
VERSION:2.0
PRODID:-//Mayflower Council | BSA - ECPv5.3.2.1//NONSGML v1.0//EN
CALSCALE:GREGORIAN
METHOD:PUBLISH
X-WR-CALNAME:Mayflower Council | BSA
X-ORIGINAL-URL:https://www.mayflowerbsa.org
X-WR-CALDESC:Events for Mayflower Council | BSA
BEGIN:VTIMEZONE
TZID:America/New_York
BEGIN:DAYLIGHT
TZOFFSETFROM:-0500
TZOFFSETTO:-0400
TZNAME:EDT
DTSTART:20200308T070000
END:DAYLIGHT
BEGIN:STANDARD
TZOFFSETFROM:-0400
TZOFFSETTO:-0500
TZNAME:EST
DTSTART:20201101T060000
END:STANDARD
END:VTIMEZONE
BEGIN:VEVENT
DTSTART;TZID=America/New_York:20201121T190000
DTEND;TZID=America/New_York:20201121T200000
DTSTAMP:20260421T212657
CREATED:20200916T161126Z
LAST-MODIFIED:20201121T131344Z
UID:27732-1605985200-1605988800@www.mayflowerbsa.org
SUMMARY:Scouting From Home Campfire - November
DESCRIPTION:One of best parts of camping is enjoying the campfire\, singing songs and doing skits.  We have a fun family friendly event planned.  Join us on Saturday\, November 21st for our seventh council-wide campfire\, virtually! \nIf your unit is holding weekly virtual meetings\, please consider doing a short song or skit\, run-on\, or have Scouts share their favorite jokes from Think & Grin and upload it to be viewed at our event.  Links to view this campfire will be published five days in advance. \nOur Virtual Campfire Will Be Live In0000Days00Hrs00Min00SecJoin Virtual Campfire On FacebookJoin Virtual Campfire On YouTubeUpload Skit or Song HereYou must sign into your Google account in order to upload a video.
URL:https://www.mayflowerbsa.org/legacyevent/scouting-from-home-campfire-sep-2-2/
CATEGORIES:All-Council,Newsletter
ATTACH;FMTTYPE=image/jpeg:https://www.mayflowerbsa.org/wp-content/uploads/campfire-cooking.jpg
ORGANIZER;CN="Jack%20Colamaria":MAILTO:jack.colamaria@scouting.org
END:VEVENT
END:VCALENDAR