BEGIN:VCALENDAR
VERSION:2.0
PRODID:-//Mayflower Council | BSA - ECPv5.3.2.1//NONSGML v1.0//EN
CALSCALE:GREGORIAN
METHOD:PUBLISH
X-WR-CALNAME:Mayflower Council | BSA
X-ORIGINAL-URL:https://www.mayflowerbsa.org
X-WR-CALDESC:Events for Mayflower Council | BSA
BEGIN:VTIMEZONE
TZID:America/New_York
BEGIN:DAYLIGHT
TZOFFSETFROM:-0500
TZOFFSETTO:-0400
TZNAME:EDT
DTSTART:20200308T070000
END:DAYLIGHT
BEGIN:STANDARD
TZOFFSETFROM:-0400
TZOFFSETTO:-0500
TZNAME:EST
DTSTART:20201101T060000
END:STANDARD
END:VTIMEZONE
BEGIN:VEVENT
DTSTART;TZID=America/New_York:20200218T100000
DTEND;TZID=America/New_York:20200218T130000
DTSTAMP:20260419T182041
CREATED:20200129T145746Z
LAST-MODIFIED:20200129T145746Z
UID:23537-1582020000-1582030800@www.mayflowerbsa.org
SUMMARY:Scouting Report To The Commonwealth
DESCRIPTION:Join fellow members of Scouting from all over Massachusetts\, as we share the Scouting story with members of the House of Representatives and State Senate at the State House in Boston. \nItinerary includes: Informal Session\, Presentation of Colors\, Presentation of Citations\, Photo Opportunity in the Senate Chambers\, a lunch break (Scouts need to bring a brown bag lunch)\, and a tour of the State House. We will all meet at Nurses Hall. \nAll Cub Scouts\, Scouts BSA\, Venturers\, Sea Scouts\, and Explorers are invited to attend. \nService Project Opportunity: \nWhen we arrive\, we will be collecting donations for Action Inc.\, a community-building program based in Gloucester. Action Inc. offers affordable housing and homelessness prevention\, fuel assistance and energy conservation programs\, and education and job training. Please consider making a contribution. \nWe will be collecting both checks and cash donations at the event. You have the option to make an online donation when you signup to attend. If you would like to make a donation\, but cannot attend the event\, you can make an online donation here. \nIf you plan to attend our Report to the Commonwealth on February 18th\, please register and fill out the information on who will be attending.
URL:https://www.mayflowerbsa.org/legacyevent/scouting-report-to-the-commonwealth/
LOCATION:Massachusetts State House\, 24 Beacon Street\, Boston\, MA\, 02133\, United States
CATEGORIES:All-Council
ATTACH;FMTTYPE=image/jpeg:https://www.mayflowerbsa.org/wp-content/uploads/Picture-1.jpg
ORGANIZER;CN="Carlene%20Covino":MAILTO:carlene.covino@scouting.org
GEO:42.3581895;-71.0637779
X-APPLE-STRUCTURED-LOCATION;VALUE=URI;X-ADDRESS=Massachusetts State House 24 Beacon Street Boston MA 02133 United States;X-APPLE-RADIUS=500;X-TITLE=24 Beacon Street:geo:-71.0637779,42.3581895
END:VEVENT
END:VCALENDAR