BEGIN:VCALENDAR
VERSION:2.0
PRODID:-//Mayflower Council | BSA - ECPv5.3.2.1//NONSGML v1.0//EN
CALSCALE:GREGORIAN
METHOD:PUBLISH
X-WR-CALNAME:Mayflower Council | BSA
X-ORIGINAL-URL:https://www.mayflowerbsa.org
X-WR-CALDESC:Events for Mayflower Council | BSA
BEGIN:VTIMEZONE
TZID:America/New_York
BEGIN:DAYLIGHT
TZOFFSETFROM:-0500
TZOFFSETTO:-0400
TZNAME:EDT
DTSTART:20180311T070000
END:DAYLIGHT
BEGIN:STANDARD
TZOFFSETFROM:-0400
TZOFFSETTO:-0500
TZNAME:EST
DTSTART:20181104T060000
END:STANDARD
END:VTIMEZONE
BEGIN:VEVENT
DTSTART;TZID=America/New_York:20181013T080000
DTEND;TZID=America/New_York:20181013T123000
DTSTAMP:20260421T125735
CREATED:20180831T220749Z
LAST-MODIFIED:20180831T220749Z
UID:15754-1539417600-1539433800@www.mayflowerbsa.org
SUMMARY:Scoutmaster/ASM Position-Specific
DESCRIPTION:Learn the fundamentals of running a successful youth-led Boy Scout troop\, including program planning\, the patrol method\, advancement\, and much more. For Scoutmasters and Assistant Scoutmasters\, this course is part of the requirements to earn the “Trained” patch. This course covers the same material as the online position-specific training\, but the live version offers more interactivity\, hands-on learning\, and the chance to meet and share ideas with fellow leaders. \nOut of Council Participants = $10.00 \n  \nRegistration Deadline:  October 11\, 2018
URL:https://www.mayflowerbsa.org/legacyevent/scoutmaster-asm-position-specific/
LOCATION:St Ann’s Church\, 103 N Main Street\, West Bridgewater\, MA\, 02379\, United States
CATEGORIES:All-Council,Training
ATTACH;FMTTYPE=image/jpeg:https://www.mayflowerbsa.org/wp-content/uploads/placeholderimage5.jpg
ORGANIZER;CN="Rob%20Lyons":MAILTO:robs89wag@yahoo.com
GEO:42.0224914;-71.0089407
X-APPLE-STRUCTURED-LOCATION;VALUE=URI;X-ADDRESS=St Ann’s Church 103 N Main Street West Bridgewater MA 02379 United States;X-APPLE-RADIUS=500;X-TITLE=103 N Main Street:geo:-71.0089407,42.0224914
END:VEVENT
END:VCALENDAR