BEGIN:VCALENDAR
VERSION:2.0
PRODID:-//Mayflower Council | BSA - ECPv5.3.2.1//NONSGML v1.0//EN
CALSCALE:GREGORIAN
METHOD:PUBLISH
X-WR-CALNAME:Mayflower Council | BSA
X-ORIGINAL-URL:https://www.mayflowerbsa.org
X-WR-CALDESC:Events for Mayflower Council | BSA
BEGIN:VTIMEZONE
TZID:America/New_York
BEGIN:DAYLIGHT
TZOFFSETFROM:-0500
TZOFFSETTO:-0400
TZNAME:EDT
DTSTART:20180311T070000
END:DAYLIGHT
BEGIN:STANDARD
TZOFFSETFROM:-0400
TZOFFSETTO:-0500
TZNAME:EST
DTSTART:20181104T060000
END:STANDARD
END:VTIMEZONE
BEGIN:VEVENT
DTSTART;TZID=America/New_York:20180915T080000
DTEND;TZID=America/New_York:20180915T123000
DTSTAMP:20260424T043115
CREATED:20180828T131233Z
LAST-MODIFIED:20180831T215018Z
UID:15634-1536998400-1537014600@www.mayflowerbsa.org
SUMMARY:Scoutmaster/ASM Position Specific Training
DESCRIPTION:Learn the fundamentals of running a successful youth-led Boy Scout troop\, including program planning\, the patrol method\, advancement\, and much more. For Scoutmasters and Assistant Scoutmasters\, this course is part of the requirements to earn the “Trained” patch. This course covers the same material as the online position-specific training\, but the live version offers more interactivity\, hands-on learning\, and the chance to meet and share ideas with fellow leaders. \nOut of Council Participants = $10.00 \n  \nJoin us in Northborough\, MA for this training and stay a bit longer in town to enjoy Northborough’s Applefest activities!
URL:https://www.mayflowerbsa.org/legacyevent/scoutmaster-asm/
LOCATION:St Rose of Lima Parish\, 244 West Main Street\, Northborough\, MA\, 01532\, United States
CATEGORIES:All-Council,Training
ATTACH;FMTTYPE=image/jpeg:https://www.mayflowerbsa.org/wp-content/uploads/placeholderimage2.jpg
ORGANIZER;CN="Arnold%20Oyola":MAILTO:arnold.oyola@gmail.com
GEO:42.3102502;-71.6561645
X-APPLE-STRUCTURED-LOCATION;VALUE=URI;X-ADDRESS=St Rose of Lima Parish 244 West Main Street Northborough MA 01532 United States;X-APPLE-RADIUS=500;X-TITLE=244 West Main Street:geo:-71.6561645,42.3102502
END:VEVENT
END:VCALENDAR