BEGIN:VCALENDAR
VERSION:2.0
PRODID:-//Mayflower Council | BSA - ECPv5.3.2.1//NONSGML v1.0//EN
CALSCALE:GREGORIAN
METHOD:PUBLISH
X-WR-CALNAME:Mayflower Council | BSA
X-ORIGINAL-URL:https://www.mayflowerbsa.org
X-WR-CALDESC:Events for Mayflower Council | BSA
BEGIN:VTIMEZONE
TZID:America/New_York
BEGIN:DAYLIGHT
TZOFFSETFROM:-0500
TZOFFSETTO:-0400
TZNAME:EDT
DTSTART:20190310T070000
END:DAYLIGHT
BEGIN:STANDARD
TZOFFSETFROM:-0400
TZOFFSETTO:-0500
TZNAME:EST
DTSTART:20191103T060000
END:STANDARD
END:VTIMEZONE
BEGIN:VEVENT
DTSTART;TZID=America/New_York:20191005T080000
DTEND;TZID=America/New_York:20191005T123000
DTSTAMP:20260423T062700
CREATED:20190319T195016Z
LAST-MODIFIED:20190903T155608Z
UID:20060-1570262400-1570278600@www.mayflowerbsa.org
SUMMARY:Scoutmaster Position Specific Training
DESCRIPTION:Learn the fundamentals of running a successful youth-led Boy Scout troop\, including program planning\, the patrol method\, advancement\, and much more. For Scoutmasters and Assistant Scoutmasters\, this course is part of the requirements to earn the “Trained” patch. This course covers the same material as the online position-specific training\, but the live version offers more interactivity\, hands-on learning\, and the chance to meet and share ideas with fellow leaders. \nRegistration Closes on:  October 3\, 2019
URL:https://www.mayflowerbsa.org/legacyevent/scoutmaster-position-specific-training/
LOCATION:St. Thomas More Church Braintree\, 7 Hawthorn Road\, Braintree\, MA\, 02184\, United States
CATEGORIES:All-Council,Training
ATTACH;FMTTYPE=image/jpeg:https://www.mayflowerbsa.org/wp-content/uploads/trainingupdate.jpg
ORGANIZER;CN="Rob%20Lyons":MAILTO:robs89wag@yahoo.com
GEO:42.225161;-70.9967293
X-APPLE-STRUCTURED-LOCATION;VALUE=URI;X-ADDRESS=St. Thomas More Church Braintree 7 Hawthorn Road Braintree MA 02184 United States;X-APPLE-RADIUS=500;X-TITLE=7 Hawthorn Road:geo:-70.9967293,42.225161
END:VEVENT
END:VCALENDAR