BEGIN:VCALENDAR
VERSION:2.0
PRODID:-//Mayflower Council | BSA - ECPv5.3.2.1//NONSGML v1.0//EN
CALSCALE:GREGORIAN
METHOD:PUBLISH
X-WR-CALNAME:Mayflower Council | BSA
X-ORIGINAL-URL:https://www.mayflowerbsa.org
X-WR-CALDESC:Events for Mayflower Council | BSA
BEGIN:VTIMEZONE
TZID:America/New_York
BEGIN:DAYLIGHT
TZOFFSETFROM:-0500
TZOFFSETTO:-0400
TZNAME:EDT
DTSTART:20180311T070000
END:DAYLIGHT
BEGIN:STANDARD
TZOFFSETFROM:-0400
TZOFFSETTO:-0500
TZNAME:EST
DTSTART:20181104T060000
END:STANDARD
END:VTIMEZONE
BEGIN:VEVENT
DTSTART;TZID=America/New_York:20181114T180000
DTEND;TZID=America/New_York:20181114T193000
DTSTAMP:20260420T054040
CREATED:20181108T201827Z
LAST-MODIFIED:20181108T201830Z
UID:17310-1542218400-1542223800@www.mayflowerbsa.org
SUMMARY:Scouts BSA Information Night
DESCRIPTION:The Boy Scouting program is welcoming girls! \nScouts BSA Information Nights Flyer \nStarting in February of 2019\, the iconic program of the Boy Scouts of America will be welcoming young women.  For 100+ years the BSA program has focused on providing youth with opportunities for adventure\, leadership training\, service to communities\, and personal growth. \nThese information nights will be held to bring the news of Scouts BSA to communities\, parents and current Scouters who have questions about the program\, how to get involved locally and what Scouting is all about! \nThese information nights will include: \n\nTestimony videos from Scouts BSA leaders\nIntroduction of local Scout leaders and their experience in Scouting\nOpportunities to register and get involved\n\n 
URL:https://www.mayflowerbsa.org/legacyevent/scouts-bsa-information-night-2/
LOCATION:Northborough American Legion Post\, 402 West Main St\, Northborough\, MA\, 01532\, United States
CATEGORIES:Headwaters District
ATTACH;FMTTYPE=image/jpeg:https://www.mayflowerbsa.org/wp-content/uploads/unnamed-3.jpg
GEO:42.3057311;-71.6676412
X-APPLE-STRUCTURED-LOCATION;VALUE=URI;X-ADDRESS=Northborough American Legion Post 402 West Main St Northborough MA 01532 United States;X-APPLE-RADIUS=500;X-TITLE=402 West Main St:geo:-71.6676412,42.3057311
END:VEVENT
END:VCALENDAR