BEGIN:VCALENDAR
VERSION:2.0
PRODID:-//Mayflower Council | BSA - ECPv5.3.2.1//NONSGML v1.0//EN
CALSCALE:GREGORIAN
METHOD:PUBLISH
X-WR-CALNAME:Mayflower Council | BSA
X-ORIGINAL-URL:https://www.mayflowerbsa.org
X-WR-CALDESC:Events for Mayflower Council | BSA
BEGIN:VTIMEZONE
TZID:America/New_York
BEGIN:DAYLIGHT
TZOFFSETFROM:-0500
TZOFFSETTO:-0400
TZNAME:EDT
DTSTART:20200308T070000
END:DAYLIGHT
BEGIN:STANDARD
TZOFFSETFROM:-0400
TZOFFSETTO:-0500
TZNAME:EST
DTSTART:20201101T060000
END:STANDARD
END:VTIMEZONE
BEGIN:VEVENT
DTSTART;TZID=America/New_York:20201117T190000
DTEND;TZID=America/New_York:20201117T201500
DTSTAMP:20260421T202523
CREATED:20201109T210127Z
LAST-MODIFIED:20201109T210127Z
UID:29336-1605639600-1605644100@www.mayflowerbsa.org
SUMMARY:Success With Scoutbook Training
DESCRIPTION:This free session is open to all adult leaders and parents who are interested in learning more about Scoutbook software. It will be taught by volunteer leaders who’ve had success using Scoutbook. Building on the introductory session we ran in September\, this new session will focus on how to log events and service hours and how to deal with other tricky functions within Scoutbook. We’ll do our best to answer your questions!” \nRegistration is required.  Once you register you will see the link to participate in this virtual training. \nRegister To Attend
URL:https://www.mayflowerbsa.org/legacyevent/success-with-scoutbook-training/
CATEGORIES:All-Council,Training
ATTACH;FMTTYPE=image/jpeg:https://www.mayflowerbsa.org/wp-content/uploads/scoutbooktraining.jpeg
ORGANIZER;CN="Chris%20Lamie":MAILTO:Chris.lamie@gmail.com
END:VEVENT
END:VCALENDAR