BEGIN:VCALENDAR
VERSION:2.0
PRODID:-//Mayflower Council | BSA - ECPv5.3.2.1//NONSGML v1.0//EN
CALSCALE:GREGORIAN
METHOD:PUBLISH
X-WR-CALNAME:Mayflower Council | BSA
X-ORIGINAL-URL:https://www.mayflowerbsa.org
X-WR-CALDESC:Events for Mayflower Council | BSA
BEGIN:VTIMEZONE
TZID:America/New_York
BEGIN:DAYLIGHT
TZOFFSETFROM:-0500
TZOFFSETTO:-0400
TZNAME:EDT
DTSTART:20180311T070000
END:DAYLIGHT
BEGIN:STANDARD
TZOFFSETFROM:-0400
TZOFFSETTO:-0500
TZNAME:EST
DTSTART:20181104T060000
END:STANDARD
END:VTIMEZONE
BEGIN:VEVENT
DTSTART;TZID=America/New_York:20181117T080000
DTEND;TZID=America/New_York:20181118T110000
DTSTAMP:20260419T200907
CREATED:20180703T135101Z
LAST-MODIFIED:20180709T161217Z
UID:14616-1542441600-1542538800@www.mayflowerbsa.org
SUMMARY:Tantamous Lodge Fellowship Weekend Fall 2018
DESCRIPTION:The Tantamous Lodge is excited to hold a Fellowship Weekend at Camp Resolute.  All Tantamous Lodge Arrowmen may attend (Ordeal\, Brotherhood and Vigil Honor Members). \nAttendees will arrive Saturday morning and the day and evening will be filled with fun activities. \nPlease bring sleeping bag\, your own tent (in case cabins are full)\, and class B shirts are recommended for Saturday.  Class A shirt and sash are required for Meals. \nAll meals included. \nRegistration Deadline:  November 12\, 2018
URL:https://www.mayflowerbsa.org/legacyevent/tantamous-lodge-fellowship-weekend-fall-2018/
LOCATION:Camp Resolute\, 75 Hudson Road\, Bolton\, MA\, 01740\, United States
CATEGORIES:All-Council,Tantamous Lodge
ATTACH;FMTTYPE=image/jpeg:https://www.mayflowerbsa.org/wp-content/uploads/oalodge.jpg
ORGANIZER;CN="Jack%20Colamaria":MAILTO:jack.colamaria@scouting.org
GEO:42.4247398;-71.5862967
X-APPLE-STRUCTURED-LOCATION;VALUE=URI;X-ADDRESS=Camp Resolute 75 Hudson Road Bolton MA 01740 United States;X-APPLE-RADIUS=500;X-TITLE=75 Hudson Road:geo:-71.5862967,42.4247398
END:VEVENT
END:VCALENDAR