BEGIN:VCALENDAR
VERSION:2.0
PRODID:-//Mayflower Council | BSA - ECPv5.3.2.1//NONSGML v1.0//EN
CALSCALE:GREGORIAN
METHOD:PUBLISH
X-WR-CALNAME:Mayflower Council | BSA
X-ORIGINAL-URL:https://www.mayflowerbsa.org
X-WR-CALDESC:Events for Mayflower Council | BSA
BEGIN:VTIMEZONE
TZID:America/New_York
BEGIN:DAYLIGHT
TZOFFSETFROM:-0500
TZOFFSETTO:-0400
TZNAME:EDT
DTSTART:20190310T070000
END:DAYLIGHT
BEGIN:STANDARD
TZOFFSETFROM:-0400
TZOFFSETTO:-0500
TZNAME:EST
DTSTART:20191103T060000
END:STANDARD
END:VTIMEZONE
BEGIN:VEVENT
DTSTART;TZID=America/New_York:20190823T180000
DTEND;TZID=America/New_York:20190825T180000
DTSTAMP:20260421T012322
CREATED:20180716T133544Z
LAST-MODIFIED:20190812T144952Z
UID:14695-1566583200-1566756000@www.mayflowerbsa.org
SUMMARY:Tantamous Lodge Ordeal August 2019
DESCRIPTION:Come join the Tantamous Lodge for an Ordeal Weekend at Camp Squanto. All Ordeal Candidates called out in the last 12 months\, Brotherhood Candidates who completed their Ordeal six months ago may sign up for their Brotherhood Honor and all Tantamous Lodge Arrowmen may attend\, (Ordeal\, Brotherhood and Vigil Honors Members). \nSaturday will be a work day performing work duties on the camp. Bring your own tent and sleeping bag\, work gloves and Class B shirts are recommended for Saturday. Class A shirt and sash for Meals.\nFood is provided. \nRegistration Deadline – August 19\, 2019 \nCost per Honor Level \n\nArrowmen – $30.00\nBrotherhood Candidates – $50.00\nOrdeal Candidates (Just Called Out) – $50.00
URL:https://www.mayflowerbsa.org/legacyevent/tantamous-lodge-ordeal-august-2019/
LOCATION:Camp Squanto\, 200 Cutters Field Rd\, Plymouth\, Massachusetts\, 02360\, United States
CATEGORIES:All-Council,Tantamous Lodge
ATTACH;FMTTYPE=image/jpeg:https://www.mayflowerbsa.org/wp-content/uploads/oalodge.jpg
ORGANIZER;CN="Jack%20Colamaria":MAILTO:jack.colamaria@scouting.org
GEO:41.8349495;-70.6383685
X-APPLE-STRUCTURED-LOCATION;VALUE=URI;X-ADDRESS=Camp Squanto 200 Cutters Field Rd Plymouth Massachusetts 02360 United States;X-APPLE-RADIUS=500;X-TITLE=200 Cutters Field Rd:geo:-70.6383685,41.8349495
END:VEVENT
END:VCALENDAR