BEGIN:VCALENDAR
VERSION:2.0
PRODID:-//Mayflower Council | BSA - ECPv5.3.2.1//NONSGML v1.0//EN
CALSCALE:GREGORIAN
METHOD:PUBLISH
X-WR-CALNAME:Mayflower Council | BSA
X-ORIGINAL-URL:https://www.mayflowerbsa.org
X-WR-CALDESC:Events for Mayflower Council | BSA
BEGIN:VTIMEZONE
TZID:America/New_York
BEGIN:DAYLIGHT
TZOFFSETFROM:-0500
TZOFFSETTO:-0400
TZNAME:EDT
DTSTART:20190310T070000
END:DAYLIGHT
BEGIN:STANDARD
TZOFFSETFROM:-0400
TZOFFSETTO:-0500
TZNAME:EST
DTSTART:20191103T060000
END:STANDARD
END:VTIMEZONE
BEGIN:VEVENT
DTSTART;TZID=America/New_York:20190517T180000
DTEND;TZID=America/New_York:20190519T110000
DTSTAMP:20260423T092302
CREATED:20180716T125829Z
LAST-MODIFIED:20180720T184003Z
UID:14692-1558116000-1558263600@www.mayflowerbsa.org
SUMMARY:Tantamous Ordeal Weekend May 2019
DESCRIPTION:The Tantamous Lodge is excited to hold the first Ordeal Weekend of 2019 at Camp Resolute.   All Ordeal Candidates called out in the last 12 months\, Brotherhood Candidates who completed their Ordeal ten months ago may sign up for their Brotherhood Honor and all Tantamous Lodge Arrowmen may attend\, (Ordeal\, Brotherhood and Vigil Honors Members). \nSaturday will be a work day performing work duties on the camp.  Bring your own tent and sleeping bag\, work gloves and Class B shirts are recommended for Saturday.  Class A shirt and sash for Meals. \nFood is provided. \nRegistration Deadline = May 12\, 2019 \nYou must register to participate even if you are coming for the day (cost for the day is: $30.00)
URL:https://www.mayflowerbsa.org/legacyevent/tantamous-ordeal-weekend-may-2019/
LOCATION:Camp Resolute\, 75 Hudson Road\, Bolton\, MA\, 01740\, United States
CATEGORIES:All-Council,Tantamous Lodge
ATTACH;FMTTYPE=image/jpeg:https://www.mayflowerbsa.org/wp-content/uploads/oalodge.jpg
ORGANIZER;CN="Jack%20Colamaria":MAILTO:jack.colamaria@scouting.org
GEO:42.4247398;-71.5862967
X-APPLE-STRUCTURED-LOCATION;VALUE=URI;X-ADDRESS=Camp Resolute 75 Hudson Road Bolton MA 01740 United States;X-APPLE-RADIUS=500;X-TITLE=75 Hudson Road:geo:-71.5862967,42.4247398
END:VEVENT
END:VCALENDAR