BEGIN:VCALENDAR
VERSION:2.0
PRODID:-//Mayflower Council | BSA - ECPv5.3.2.1//NONSGML v1.0//EN
CALSCALE:GREGORIAN
METHOD:PUBLISH
X-WR-CALNAME:Mayflower Council | BSA
X-ORIGINAL-URL:https://www.mayflowerbsa.org
X-WR-CALDESC:Events for Mayflower Council | BSA
BEGIN:VTIMEZONE
TZID:America/New_York
BEGIN:DAYLIGHT
TZOFFSETFROM:-0500
TZOFFSETTO:-0400
TZNAME:EDT
DTSTART:20180311T070000
END:DAYLIGHT
BEGIN:STANDARD
TZOFFSETFROM:-0400
TZOFFSETTO:-0500
TZNAME:EST
DTSTART:20181104T060000
END:STANDARD
END:VTIMEZONE
BEGIN:VEVENT
DTSTART;TZID=America/New_York:20181117T093000
DTEND;TZID=America/New_York:20181117T173000
DTSTAMP:20260419T152342
CREATED:20180226T142758Z
LAST-MODIFIED:20180226T143636Z
UID:13356-1542447000-1542475800@www.mayflowerbsa.org
SUMMARY:Tread Lightly! Trainer Course
DESCRIPTION:The Tread Trainer program is designed to train adults in innovative\, practical methods of spreading the outdoor ethics message with a curriculum specifically focused on motorized and mechanized recreation.  Once a participant becomes active in the Tread Trainer program he or she is equipped with the knowledge to recreate responsibility; present and Tread Lightly! message to other scouters\, scouts\, enthusiasts or community members; and train additional Tread Lightly! instructors. \nFee:   $25.00 \nRegistration Deadline:  11/04/18 \nPre-requisites or restrictions:  Open to Adults\, age 18 and older \n  \nPLEASE NOTE:  You will be leaving this site to Register for this course.
URL:https://www.mayflowerbsa.org/legacyevent/tread-lightly-trainer-course/
LOCATION:Cabela’s Hudson\, 44 Highland Comman East\, Hudson\, MA\, 01749
CATEGORIES:All-Council,Training
ATTACH;FMTTYPE=image/jpeg:https://www.mayflowerbsa.org/wp-content/uploads/placeholderimage5.jpg
ORGANIZER;CN="Pete%20Lane":MAILTO:pete.lane@comcast.net
GEO:42.3944755;-71.5950164
X-APPLE-STRUCTURED-LOCATION;VALUE=URI;X-ADDRESS=Cabela’s Hudson 44 Highland Comman East Hudson MA 01749;X-APPLE-RADIUS=500;X-TITLE=44 Highland Comman East:geo:-71.5950164,42.3944755
END:VEVENT
END:VCALENDAR