BEGIN:VCALENDAR
VERSION:2.0
PRODID:-//Mayflower Council | BSA - ECPv5.3.2.1//NONSGML v1.0//EN
CALSCALE:GREGORIAN
METHOD:PUBLISH
X-WR-CALNAME:Mayflower Council | BSA
X-ORIGINAL-URL:https://www.mayflowerbsa.org
X-WR-CALDESC:Events for Mayflower Council | BSA
BEGIN:VTIMEZONE
TZID:America/New_York
BEGIN:DAYLIGHT
TZOFFSETFROM:-0500
TZOFFSETTO:-0400
TZNAME:EDT
DTSTART:20200308T070000
END:DAYLIGHT
BEGIN:STANDARD
TZOFFSETFROM:-0400
TZOFFSETTO:-0500
TZNAME:EST
DTSTART:20201101T060000
END:STANDARD
END:VTIMEZONE
BEGIN:VEVENT
DTSTART;TZID=America/New_York:20200321T083000
DTEND;TZID=America/New_York:20200321T104500
DTSTAMP:20260419T234844
CREATED:20200114T175033Z
LAST-MODIFIED:20200313T180743Z
UID:23313-1584779400-1584787500@www.mayflowerbsa.org
SUMMARY:Troop Committee Position-Specific Training
DESCRIPTION:In an abundance of caution\, we will be canceling the Troop Committee Position-Specific training because these events bring a number of Scouters together. We will be issuing full refunds to any training session that required payment to everyone by the end of the month.\n.\nLearn about how an effective Troop Committee can support a successful youth-led Scouts BSA troop. This course covers all the important functions that the Troop Committee should provide. If you’re a member of the Troop Committee\, this course is part of the requirements to earn the “Trained” patch. This course covers the same material as the online position-specific training\, but the live version offers more interactivity\, hands-on learning\, and the chance to meet and share ideas with fellow leaders. This course is for leaders of all Scouts BSA Troops.\nWalk-ins are welcome\, but pre-registration is appreciated so the volunteers organizing this training can get a head count for supplies.
URL:https://www.mayflowerbsa.org/legacyevent/troop-committee-position-specific-training-5/
LOCATION:Southeastern Regional Vocational Technical High School\, 250 Foundry Street\, South Easton\, 02375\, United States
CATEGORIES:All-Council,Training
ATTACH;FMTTYPE=image/jpeg:https://www.mayflowerbsa.org/wp-content/uploads/trainingupdate.jpg
ORGANIZER;CN="Chris%20Lamie":MAILTO:Chris.lamie@gmail.com
GEO:42.0103895;-71.0813143
X-APPLE-STRUCTURED-LOCATION;VALUE=URI;X-ADDRESS=Southeastern Regional Vocational Technical High School 250 Foundry Street South Easton 02375 United States;X-APPLE-RADIUS=500;X-TITLE=250 Foundry Street:geo:-71.0813143,42.0103895
END:VEVENT
END:VCALENDAR