BEGIN:VCALENDAR
VERSION:2.0
PRODID:-//Mayflower Council | BSA - ECPv5.3.2.1//NONSGML v1.0//EN
CALSCALE:GREGORIAN
METHOD:PUBLISH
X-WR-CALNAME:Mayflower Council | BSA
X-ORIGINAL-URL:https://www.mayflowerbsa.org
X-WR-CALDESC:Events for Mayflower Council | BSA
BEGIN:VTIMEZONE
TZID:America/New_York
BEGIN:DAYLIGHT
TZOFFSETFROM:-0500
TZOFFSETTO:-0400
TZNAME:EDT
DTSTART:20200308T070000
END:DAYLIGHT
BEGIN:STANDARD
TZOFFSETFROM:-0400
TZOFFSETTO:-0500
TZNAME:EST
DTSTART:20201101T060000
END:STANDARD
END:VTIMEZONE
BEGIN:VEVENT
DTSTART;TZID=America/New_York:20201028T193000
DTEND;TZID=America/New_York:20201028T203000
DTSTAMP:20260423T165520
CREATED:20200921T191647Z
LAST-MODIFIED:20200921T192824Z
UID:27877-1603913400-1603917000@www.mayflowerbsa.org
SUMMARY:Venturing Officer Association (VOA)
DESCRIPTION:Join us virtually! \nYou must register to receive the zoom link. \nRegistration Opening Soon
URL:https://www.mayflowerbsa.org/legacyevent/venturing-officer-association-voa/2020-10-28/
ATTACH;FMTTYPE=image/jpeg:https://www.mayflowerbsa.org/wp-content/uploads/placeholderimage5.jpg
END:VEVENT
END:VCALENDAR