BEGIN:VCALENDAR
VERSION:2.0
PRODID:-//Mayflower Council | BSA - ECPv5.3.2.1//NONSGML v1.0//EN
CALSCALE:GREGORIAN
METHOD:PUBLISH
X-WR-CALNAME:Mayflower Council | BSA
X-ORIGINAL-URL:https://www.mayflowerbsa.org
X-WR-CALDESC:Events for Mayflower Council | BSA
BEGIN:VTIMEZONE
TZID:America/New_York
BEGIN:DAYLIGHT
TZOFFSETFROM:-0500
TZOFFSETTO:-0400
TZNAME:EDT
DTSTART:20190310T070000
END:DAYLIGHT
BEGIN:STANDARD
TZOFFSETFROM:-0400
TZOFFSETTO:-0500
TZNAME:EST
DTSTART:20191103T060000
END:STANDARD
END:VTIMEZONE
BEGIN:VEVENT
DTSTART;TZID=America/New_York:20190511T090000
DTEND;TZID=America/New_York:20190511T120000
DTSTAMP:20260423T155035
CREATED:20190501T201012Z
LAST-MODIFIED:20190507T132851Z
UID:21011-1557565200-1557576000@www.mayflowerbsa.org
SUMMARY:Venturing Position Specific Training
DESCRIPTION:This instructor-led course is designed to provide adult Venturing Crew Leaders and Committee members with the basic information they need to help youth leaders manage a crew. Completing this course will make a Scouter “trained” for the roles of Venturing Advisor and Committee Member.
URL:https://www.mayflowerbsa.org/legacyevent/venturing-position-specific-training-3/
LOCATION:Benjamin Franklin Classical Charter School\, 201 Main Street\, Franklin\, MA\, 02038\, United States
CATEGORIES:All-Council,Training
ATTACH;FMTTYPE=image/png:https://www.mayflowerbsa.org/wp-content/uploads/1200px-Venturing.svg.png
ORGANIZER;CN="Lisa%20Silletti":MAILTO:lisasilletti@gmail.com
GEO:42.0890791;-71.4006677
X-APPLE-STRUCTURED-LOCATION;VALUE=URI;X-ADDRESS=Benjamin Franklin Classical Charter School 201 Main Street Franklin MA 02038 United States;X-APPLE-RADIUS=500;X-TITLE=201 Main Street:geo:-71.4006677,42.0890791
END:VEVENT
END:VCALENDAR