BEGIN:VCALENDAR
VERSION:2.0
PRODID:-//Mayflower Council | BSA - ECPv5.3.2.1//NONSGML v1.0//EN
CALSCALE:GREGORIAN
METHOD:PUBLISH
X-WR-CALNAME:Mayflower Council | BSA
X-ORIGINAL-URL:https://www.mayflowerbsa.org
X-WR-CALDESC:Events for Mayflower Council | BSA
BEGIN:VTIMEZONE
TZID:America/New_York
BEGIN:DAYLIGHT
TZOFFSETFROM:-0500
TZOFFSETTO:-0400
TZNAME:EDT
DTSTART:20190310T070000
END:DAYLIGHT
BEGIN:STANDARD
TZOFFSETFROM:-0400
TZOFFSETTO:-0500
TZNAME:EST
DTSTART:20191103T060000
END:STANDARD
END:VTIMEZONE
BEGIN:VEVENT
DTSTART;TZID=America/New_York:20190925T193000
DTEND;TZID=America/New_York:20190925T203000
DTSTAMP:20260421T201241
CREATED:20190319T193705Z
LAST-MODIFIED:20190808T204111Z
UID:20054-1569439800-1569443400@www.mayflowerbsa.org
SUMMARY:Venturing Officer's Association Forum
DESCRIPTION:VOA meetings are a great place for Venturer’s across the council to meet one another and discuss any issues they may be having as a crew\, and find out about cool new opportunities. \n  \nPlease use the upper parking lot and enter thru Door #9
URL:https://www.mayflowerbsa.org/legacyevent/voa-forum-2/
LOCATION:First Congregational Church Norwood\, 100 Winter Street\, Norwood\, MA\, 02062\, United States
CATEGORIES:All-Council,Venturing/Exploring Division
ATTACH;FMTTYPE=image/jpeg:https://www.mayflowerbsa.org/wp-content/uploads/placeholderimage5.jpg
ORGANIZER;CN="Tom%20McClintock":MAILTO:tmcclint@bellatlantic.net
GEO:42.1911569;-71.206046
X-APPLE-STRUCTURED-LOCATION;VALUE=URI;X-ADDRESS=First Congregational Church Norwood 100 Winter Street Norwood MA 02062 United States;X-APPLE-RADIUS=500;X-TITLE=100 Winter Street:geo:-71.206046,42.1911569
END:VEVENT
END:VCALENDAR