BEGIN:VCALENDAR
VERSION:2.0
PRODID:-//Mayflower Council | BSA - ECPv5.3.2.1//NONSGML v1.0//EN
CALSCALE:GREGORIAN
METHOD:PUBLISH
X-WR-CALNAME:Mayflower Council | BSA
X-ORIGINAL-URL:https://www.mayflowerbsa.org
X-WR-CALDESC:Events for Mayflower Council | BSA
BEGIN:VTIMEZONE
TZID:America/New_York
BEGIN:DAYLIGHT
TZOFFSETFROM:-0500
TZOFFSETTO:-0400
TZNAME:EDT
DTSTART:20190310T070000
END:DAYLIGHT
BEGIN:STANDARD
TZOFFSETFROM:-0400
TZOFFSETTO:-0500
TZNAME:EST
DTSTART:20191103T060000
END:STANDARD
END:VTIMEZONE
BEGIN:VEVENT
DTSTART;TZID=America/New_York:20190505T060000
DTEND;TZID=America/New_York:20190505T180000
DTSTAMP:20260423T212602
CREATED:20190418T164651Z
LAST-MODIFIED:20190426T131518Z
UID:20814-1557036000-1557079200@www.mayflowerbsa.org
SUMMARY:Walk For Hunger
DESCRIPTION:The Mayflower Council will have a Team!\n  \nA unique opportunity for units to participate in the 2019 Walk For Hunger.  Project Bread’s Walk for Hunger is the longest-running community event in the country that raises awareness about hunger and funds to support programs across Massachusetts that help residents access food! \n  \nEach participant will receive a special Mayflower Council Walk For Hunger Team T-shirt.  We will register all attendees under the age of 18 as participants and any proceeds left from our registration fee will be donated to the Walk For Hunger. \n  \nAs this is a council sanctioned activity\, this walk will qualify for the requirement 4\, 15 mile hike for the Hiking Merit Badge. \n  \nRegistration begins at 6:00 am \n\n5K run begins at 7:30 am\nWalk will begin at 8:30 am. (3 miles or 20 miles)\n\n \nPlease register your Scouts BSA or Venture Crew as a unit. \n  \nT-shirt pickup will be on Saturday\, May 4\, 2019 at the Canton Service Center (8:00 – 10:00 AM.)
URL:https://www.mayflowerbsa.org/legacyevent/walk-for-hunger/
LOCATION:Boston Common\, Boston\, MA\, United States
CATEGORIES:All-Council
ATTACH;FMTTYPE=image/jpeg:https://www.mayflowerbsa.org/wp-content/uploads/2019-masses-shot.jpg
ORGANIZER;CN="Sal%20Salvatori":MAILTO:g.salvatori@newenglandgroup.com
GEO:42.3600825;-71.0588801
END:VEVENT
END:VCALENDAR