BEGIN:VCALENDAR
VERSION:2.0
PRODID:-//Mayflower Council | BSA - ECPv5.3.2.1//NONSGML v1.0//EN
CALSCALE:GREGORIAN
METHOD:PUBLISH
X-WR-CALNAME:Mayflower Council | BSA
X-ORIGINAL-URL:https://www.mayflowerbsa.org
X-WR-CALDESC:Events for Mayflower Council | BSA
BEGIN:VTIMEZONE
TZID:America/Halifax
BEGIN:DAYLIGHT
TZOFFSETFROM:-0400
TZOFFSETTO:-0300
TZNAME:ADT
DTSTART:20180311T060000
END:DAYLIGHT
BEGIN:STANDARD
TZOFFSETFROM:-0300
TZOFFSETTO:-0400
TZNAME:AST
DTSTART:20181104T050000
END:STANDARD
END:VTIMEZONE
BEGIN:VEVENT
DTSTART;TZID=America/Halifax:20181107T180000
DTEND;TZID=America/Halifax:20181107T220000
DTSTAMP:20260420T111123
CREATED:20170928T192409Z
LAST-MODIFIED:20181004T140631Z
UID:8545-1541613600-1541628000@www.mayflowerbsa.org
SUMMARY:2018 Westborough Good Scout Award Dinner
DESCRIPTION:Westborough Good Scout Award Dinner\nPlease join us on November 7\, 2018 to celebrate two outstanding individuals.\n  \nWestborough Good Scout Award Recipient \nAl Gordon\, Westborough Chief of Police\, retired \n  \nThe Good Scout Award is bestowed upon individuals who have demonstrated integrity and genuine concern for others in both their professional and personal lives. \nThe recipients need not have been Scouts but must carry the “Spirit of Scouting” into their adult lives.  They are people who have been unselfish in their service to others on an individual and community basis.  They seek no return for their service other than the satisfaction of aiding their fellow citizens\, their community\, and their nation. \nThe Good Scouts are people who truly capture the respect and imagination of our youth. \n  \nWestborough Lady Baden-Powell Award Recipient \nJudy Wilchynski\, Family\, Girl Scout\, Mentor\, Advocate\, Volunteer \n  \nThe Lady Baden-Powell Good Scout Award is presented to distinguished women who have had a significant impact on Westborough area youth through service to others\, community leadership\, and personal example. Through their dedication and commitment\, they enrich the lives of our young people and strengthen our community. The Mayflower Council\, BSA is honored to present this award for the first time in 2018.
URL:https://www.mayflowerbsa.org/legacyevent/wgsd/
LOCATION:Doubletree Hotel Westborough\, 5400 Computer Drive\, Westborough\, 01581
CATEGORIES:All-Council
ATTACH;FMTTYPE=image/jpeg:https://www.mayflowerbsa.org/wp-content/uploads/2703-Westboro-Town-Hall-Exterior.jpg
ORGANIZER;CN="Ed%20Behn":MAILTO:ed@edbehn.com
GEO:42.289696;-71.57239
X-APPLE-STRUCTURED-LOCATION;VALUE=URI;X-ADDRESS=Doubletree Hotel Westborough 5400 Computer Drive Westborough 01581;X-APPLE-RADIUS=500;X-TITLE=5400 Computer Drive:geo:-71.57239,42.289696
END:VEVENT
END:VCALENDAR