BEGIN:VCALENDAR
VERSION:2.0
PRODID:-//Mayflower Council | BSA - ECPv5.3.2.1//NONSGML v1.0//EN
CALSCALE:GREGORIAN
METHOD:PUBLISH
X-WR-CALNAME:Mayflower Council | BSA
X-ORIGINAL-URL:https://www.mayflowerbsa.org
X-WR-CALDESC:Events for Mayflower Council | BSA
BEGIN:VTIMEZONE
TZID:America/New_York
BEGIN:DAYLIGHT
TZOFFSETFROM:-0500
TZOFFSETTO:-0400
TZNAME:EDT
DTSTART:20200308T070000
END:DAYLIGHT
BEGIN:STANDARD
TZOFFSETFROM:-0400
TZOFFSETTO:-0500
TZNAME:EST
DTSTART:20201101T060000
END:STANDARD
END:VTIMEZONE
BEGIN:VEVENT
DTSTART;TZID=America/New_York:20200314T083000
DTEND;TZID=America/New_York:20200315T170000
DTSTAMP:20260419T175502
CREATED:20190910T134850Z
LAST-MODIFIED:20200313T175653Z
UID:22149-1584174600-1584291600@www.mayflowerbsa.org
SUMMARY:Wilderness and Remote First Aid
DESCRIPTION:In an abundance of caution\, we will be canceling the Wilderness and Remote First Aid training because these events bring a number of Scouters together. We will be issuing full refunds to any training session that required payment to everyone by the end of the month.\n.\nThe Wilderness First Aid course includes training on what to do in the case of: \n\nHead (brain)\, neck\, and spinal injuries\nHeat-related emergencies\nHypothermia\nAltitude-related illnesses\nAllergies and anaphylaxis\nBurns\nBone and joint injuries\nWounds and wound infections\n\nThe course is based on the Boy Scouts of America’s “Wilderness First Aid Curriculum and Doctrine Guidelines” and has been reviewed and/or supported by the American Camp Association\, American Canoe Association\, and the National Recreation and Park Association. Wilderness and Remote First Aid also offers enhanced content and topics to meet OSHA’s Best Practices for Workplace First Aid Training Programs. \nCourse participants must be at least 14 years of age and possess current certification in Adult Cardiopulmonary Resuscitation/Automated External Defibrillator (CPR/AED). \nImportant Notes: \n\nWFRA participant manuals and skill sheets will be mailed to the address provided during registration. Participants are expected to review this material prior to the course.\nPlease come dressed appropriately for the weather\, as some of the instruction will take place outdoors.\n\n  \nRegistration Deadline – Thursday noon prior to start date. \nLocation:  Dining Hall
URL:https://www.mayflowerbsa.org/legacyevent/wilderness-and-remote-first-aid-7-2020-03-14/
LOCATION:Camp Squanto\, 200 Cutters Field Rd\, Plymouth\, Massachusetts\, 02360\, United States
CATEGORIES:All-Council,Training
ATTACH;FMTTYPE=image/png:https://www.mayflowerbsa.org/wp-content/uploads/Wilderness-first-aid.png
ORGANIZER;CN="George%20Ecker":MAILTO:mushmahatma@verizon.net
GEO:41.8349495;-70.6383685
X-APPLE-STRUCTURED-LOCATION;VALUE=URI;X-ADDRESS=Camp Squanto 200 Cutters Field Rd Plymouth Massachusetts 02360 United States;X-APPLE-RADIUS=500;X-TITLE=200 Cutters Field Rd:geo:-70.6383685,41.8349495
END:VEVENT
END:VCALENDAR