BEGIN:VCALENDAR
VERSION:2.0
PRODID:-//Mayflower Council | BSA - ECPv5.3.2.1//NONSGML v1.0//EN
CALSCALE:GREGORIAN
METHOD:PUBLISH
X-WR-CALNAME:Mayflower Council | BSA
X-ORIGINAL-URL:https://www.mayflowerbsa.org
X-WR-CALDESC:Events for Mayflower Council | BSA
BEGIN:VTIMEZONE
TZID:America/New_York
BEGIN:DAYLIGHT
TZOFFSETFROM:-0500
TZOFFSETTO:-0400
TZNAME:EDT
DTSTART:20200308T070000
END:DAYLIGHT
BEGIN:STANDARD
TZOFFSETFROM:-0400
TZOFFSETTO:-0500
TZNAME:EST
DTSTART:20201101T060000
END:STANDARD
END:VTIMEZONE
BEGIN:VEVENT
DTSTART;TZID=America/New_York:20200327T070000
DTEND;TZID=America/New_York:20200329T170000
DTSTAMP:20260420T162656
CREATED:20191017T000216Z
LAST-MODIFIED:20191216T134031Z
UID:22456-1585292400-1585501200@www.mayflowerbsa.org
SUMMARY:Wood Badge 2020
DESCRIPTION:Wood Badge is the premier leadership training course offered by the Boy Scouts of America. This training experience provides dedicated Scouters with the concepts\, tools\, and methods needed to be effective leaders. Participants will gain an in-depth understanding of these critical leadership skills along with a structured opportunity to apply them. The skills you learn will help you become a more effective leader in Scouting\, your career\, your family\, and your community life. This training supports our goal of strengthening Scouting in our units\, districts\, and council\, and providing every Scout with the well trained leaders they deserve! \nWood Badge has two parts:\nThe practical portion\, taught over five full days at camp (usually split into two weekends).\n“Working your ticket\,” when you apply the Wood Badge skills to complete five goals that you’ll establish for yourself in your Scouting position(s). \nThis opportunity is open to any registered adult leader who has completed the basic online or in-person training for their position in Scouting. \nOur council is part of a group of councils in Eastern and Central Massachusetts who work together to offer Wood Badge courses. This arrangement enables us to make this training available more often than we could on our own. Primary hosting arrangements rotate among the councils\, so the registration link will bring you to a different council’s website. Please go ahead and sign up for this course if you can. Spots are limited! \nSession 1: \nMarch 27-29 (Friday – Sunday) \nNew England Base Camp\, Milton\, MA \nSession 2: \nApril 25-26 (Saturday & Sunday) \nLone Tree\, Kingston\, NH \nParticipants are expected to attend both sessions. \n 
URL:https://www.mayflowerbsa.org/legacyevent/wood-badge-2020/
LOCATION:New England Base Camp\, 411 Unquity Rd\, Milton\, MA\, 02186\, United States
CATEGORIES:All-Council,Training
ATTACH;FMTTYPE=image/jpeg:https://www.mayflowerbsa.org/wp-content/uploads/Wood-badge.jpg
GEO:42.2341497;-71.0914564
X-APPLE-STRUCTURED-LOCATION;VALUE=URI;X-ADDRESS=New England Base Camp 411 Unquity Rd Milton MA 02186 United States;X-APPLE-RADIUS=500;X-TITLE=411 Unquity Rd:geo:-71.0914564,42.2341497
END:VEVENT
END:VCALENDAR