BEGIN:VCALENDAR
VERSION:2.0
PRODID:-//Mayflower Council | BSA - ECPv5.3.2.1//NONSGML v1.0//EN
CALSCALE:GREGORIAN
METHOD:PUBLISH
X-WR-CALNAME:Mayflower Council | BSA
X-ORIGINAL-URL:https://www.mayflowerbsa.org
X-WR-CALDESC:Events for Mayflower Council | BSA
BEGIN:VTIMEZONE
TZID:America/New_York
BEGIN:DAYLIGHT
TZOFFSETFROM:-0500
TZOFFSETTO:-0400
TZNAME:EDT
DTSTART:20180311T070000
END:DAYLIGHT
BEGIN:STANDARD
TZOFFSETFROM:-0400
TZOFFSETTO:-0500
TZNAME:EST
DTSTART:20181104T060000
END:STANDARD
END:VTIMEZONE
BEGIN:VEVENT
DTSTART;TZID=America/New_York:20181018T190000
DTEND;TZID=America/New_York:20181018T210000
DTSTAMP:20260422T020013
CREATED:20180925T141450Z
LAST-MODIFIED:20181001T130544Z
UID:16035-1539889200-1539896400@www.mayflowerbsa.org
SUMMARY:Youth Protection Training
DESCRIPTION:Please join us for a live version of the official BSA Youth Protection Training (YPT). This course is an approved substitute for the online version that the Boy Scouts of America released in February 2018. \n  \nWHAT IT COVERS: This course will help you understand how to create and maintain a safe environment for youth; how to recognize\, respond to\, and report the different kinds of abuse that youth are likely to experience; and how to use Scouting’s “Barriers to Abuse” to protect youth. This training covers exactly the same material as the online version\, including slides and videos\, while also providing an opportunity for questions and discussion. Each participant must pass a test at the end to earn credit for the course. Altogether\, the training and the test will take about an hour and a half. \n  \nWHO SHOULD ATTEND: This training is for all adult leaders (age 18+) in all BSA programs. Cub Scout\, Boy Scout\, and Venturing leaders all take the same YPT now. It is the national policy of the BSA that all registered leaders are required to take this training (either the online version or the live version) during 2018. Parents who are not registered with the BSA are also encouraged to take this training. \n  \nLocation: White Lodge 
URL:https://www.mayflowerbsa.org/legacyevent/youth-protection-training-7/
LOCATION:Nobscot Scout Reservation\, 1 Nobscot Road\, Sudbury\, MA\, 01776\, United States
CATEGORIES:All-Council,Training
ATTACH;FMTTYPE=image/jpeg:https://www.mayflowerbsa.org/wp-content/uploads/placeholderimage5.jpg
ORGANIZER;CN="Dick%20Clarke":MAILTO:rclarke1@rcn.com
GEO:42.3476721;-71.438526
X-APPLE-STRUCTURED-LOCATION;VALUE=URI;X-ADDRESS=Nobscot Scout Reservation 1 Nobscot Road Sudbury MA 01776 United States;X-APPLE-RADIUS=500;X-TITLE=1 Nobscot Road:geo:-71.438526,42.3476721
END:VEVENT
END:VCALENDAR