BEGIN:VCALENDAR
VERSION:2.0
PRODID:-//Mayflower Council | BSA - ECPv5.3.2.1//NONSGML v1.0//EN
CALSCALE:GREGORIAN
METHOD:PUBLISH
X-WR-CALNAME:Mayflower Council | BSA
X-ORIGINAL-URL:https://www.mayflowerbsa.org
X-WR-CALDESC:Events for Mayflower Council | BSA
BEGIN:VTIMEZONE
TZID:America/New_York
BEGIN:DAYLIGHT
TZOFFSETFROM:-0500
TZOFFSETTO:-0400
TZNAME:EDT
DTSTART:20180311T070000
END:DAYLIGHT
BEGIN:STANDARD
TZOFFSETFROM:-0400
TZOFFSETTO:-0500
TZNAME:EST
DTSTART:20181104T060000
END:STANDARD
END:VTIMEZONE
BEGIN:VEVENT
DTSTART;TZID=America/New_York:20181013T103000
DTEND;TZID=America/New_York:20181013T123000
DTSTAMP:20260421T141904
CREATED:20181009T150533Z
LAST-MODIFIED:20181008T000719Z
UID:16886-1539426600-1539433800@www.mayflowerbsa.org
SUMMARY:Youth Protection Training
DESCRIPTION:Please join us for a live version of the official BSA Youth Protection Training (YPT). This course is an approved substitute for the online version that the Boy Scouts of America released in February 2018. \nWHAT IT COVERS: This course will help you understand how to create and maintain a safe environment for youth; how to recognize\, respond to\, and report the different kinds of abuse that youth are likely to experience; and how to use Scouting’s “Barriers to Abuse” to protect youth. This training covers exactly the same material as the online version\, including slides and videos\, while also providing an opportunity for questions and discussion. Each participant must pass a test at the end to earn credit for the course. Altogether\, the training and the test will take about an hour and a half. \nWHO SHOULD ATTEND: This training is for all adult leaders (age 18+) in all BSA programs. Cub Scout\, Boy Scout\, and Venturing leaders all take the same YPT now. It is the national policy of the BSA that all registered leaders are required to take this training (either the online version or the live version) during 2018. Parents who are not registered with the BSA are also encouraged to take this training.   \nWalk-ins are welcome\, but we’d appreciate pre-registration so we can get an approximate headcount for supplies and so we can notify you if there are any last-minute details you need to know. This training is taking place during the Cub Scout Leader Training Festival\, but all leaders and parents are welcome to join us for YPT.
URL:https://www.mayflowerbsa.org/legacyevent/youth-protection-training/
LOCATION:Weston United Methodist Church\, 377 North Ave.\, Weston\, MA\, 02493\, United States
CATEGORIES:All-Council,Training
ATTACH;FMTTYPE=image/jpeg:https://www.mayflowerbsa.org/wp-content/uploads/placeholderimage5.jpg
ORGANIZER;CN="Chris%20Lamie":MAILTO:Chris.lamie@gmail.com
GEO:42.3961554;-71.2939634
X-APPLE-STRUCTURED-LOCATION;VALUE=URI;X-ADDRESS=Weston United Methodist Church 377 North Ave. Weston MA 02493 United States;X-APPLE-RADIUS=500;X-TITLE=377 North Ave.:geo:-71.2939634,42.3961554
END:VEVENT
END:VCALENDAR